BEGIN:VCALENDAR
VERSION:2.0
PRODID:-//Runnin&#039;Grez - ECPv4.6.9//NONSGML v1.0//EN
CALSCALE:GREGORIAN
METHOD:PUBLISH
X-WR-CALNAME:Runnin&#039;Grez
X-ORIGINAL-URL:http://www.runningrez.be
X-WR-CALDESC:Events for Runnin&#039;Grez
BEGIN:VEVENT
DTSTART;TZID=UTC+1:20150503T130000
DTEND;TZID=UTC+1:20150503T130000
DTSTAMP:20260422T130924
CREATED:20150405T120242Z
LAST-MODIFIED:20150405T120242Z
UID:2782-1430658000-1430658000@www.runningrez.be
SUMMARY:Wings for Life World Run
DESCRIPTION:Bonjour à tous \nEnvie d’une course un peu différente des autres ?\nUne course où la ligne d’arrivée se trouve derrière les participants… Ca change\, non ?\nAlors\, inscrivez-vous au Wings for Life World Run à Ypres !\nNous sommes déjà 2-3 à y participer\, on peut envisager un co-voiturage éventuel… \nEn bref :\n– C’est une course de 5km\, de 10km\, c’est un marathon\, c’est la distance que vous souhaitez ! Ce qui rend le Wings for Life World Run si agréable à courir c’est le fait que c’est complètement différent de toutes les courses que vous avez couru dans votre vie… Au lieu de courir jusqu’à la ligne d’arrivée\, vous courez pour ne pas vous faire dépasser par la Catcher Car.\n– La Wings for Life World Run est le seul événement auquel des habitants du monde entier peuvent participer simultanément. En pratique\, cela signifie que le 3 mai 2015 à 13h00 précises (heure belge)\, des milliers de participants prendront le départ à 35 endroits différents à travers le monde.\n– En participant à la Wings for Life World Run\, vous contribuerez aussi à la recherche d’un traitement pour soigner les lésions de la moelle épinière. 100% des recettes de la Wings for Life World Run iront en effet à Wings for Life\, une fondation finançant la recherche d’un traitement des lésions de la moelle épinière. \nFrançoise \n
URL:http://www.runningrez.be/event/wings-for-life-world-run/
LOCATION:Frenchlaan\, Ypres\, 8900\, Belgium
CATEGORIES:Jogging
END:VEVENT
END:VCALENDAR