BEGIN:VCALENDAR
VERSION:2.0
PRODID:-//Runnin&#039;Grez - ECPv4.6.9//NONSGML v1.0//EN
CALSCALE:GREGORIAN
METHOD:PUBLISH
X-WR-CALNAME:Runnin&#039;Grez
X-ORIGINAL-URL:http://www.runningrez.be
X-WR-CALDESC:Events for Runnin&#039;Grez
BEGIN:VEVENT
DTSTART;VALUE=DATE:20180428
DTEND;VALUE=DATE:20180429
DTSTAMP:20260419T130233
CREATED:20180301T165938Z
LAST-MODIFIED:20180301T165938Z
UID:18511-1524873600-1524959999@www.runningrez.be
SUMMARY:Val-Dieu Trail
DESCRIPTION:Course sur le plateau de Herve. \nLe départ se fait de l’abbaye de Val-Dieu et ‘arrivée au Hall Omnisport d’Aubel. Des navettes seront organisées entre le parking du Hall et le lieu de départ. \n  \n3 courses sont proposées: \n20km (2 ravitos); départ à 14h \n8km (1 ravito); départ à 14h \n2km kiditrail (pour les enfants de 6 à 12 ans); départ à 16h. \nL’ensemble des bénéfices sera reversé à l’ASBL « Le Bailou » \n
URL:http://www.runningrez.be/event/val-dieu-trail/
CATEGORIES:Trail
END:VEVENT
END:VCALENDAR