BEGIN:VCALENDAR
VERSION:2.0
PRODID:-//Runnin&#039;Grez - ECPv4.6.9//NONSGML v1.0//EN
CALSCALE:GREGORIAN
METHOD:PUBLISH
X-WR-CALNAME:Runnin&#039;Grez
X-ORIGINAL-URL:http://www.runningrez.be
X-WR-CALDESC:Events for Runnin&#039;Grez
BEGIN:VEVENT
DTSTART;TZID=UTC+1:20150530T104500
DTEND;TZID=UTC+1:20150530T104500
DTSTAMP:20260422T000223
CREATED:20150501T212247Z
LAST-MODIFIED:20150501T212344Z
UID:3026-1432982700-1432982700@www.runningrez.be
SUMMARY:Trail des vallées du Chevalier
DESCRIPTION:Bonjour à tous\, \nJe vous propose ici un trail que je découvre cette année mais dont on m’a dit beaucoup de bien. Deux distances sont proposées (17 et 32 km). La course a lieu dans les environs de Marche-les-dames et présente\, parait-il\, de nombreux passages techniques dans les rochers. De quoi nous changer des trails sous la boue. 😉 \nIl faut venir. Ca va être bien\, ça va être très bien même 😉 \nA+ \nGéraud \n
URL:http://www.runningrez.be/event/trail-des-vallees-du-chevalier/
LOCATION:La R. ENTENTE WARTET F.C. Grand-Rue 5020\, Marche-les-Dames\, 5020\, Belgium
CATEGORIES:Trail
END:VEVENT
END:VCALENDAR