BEGIN:VCALENDAR
VERSION:2.0
PRODID:-//Runnin&#039;Grez - ECPv4.6.9//NONSGML v1.0//EN
CALSCALE:GREGORIAN
METHOD:PUBLISH
X-WR-CALNAME:Runnin&#039;Grez
X-ORIGINAL-URL:http://www.runningrez.be
X-WR-CALDESC:Events for Runnin&#039;Grez
BEGIN:VEVENT
DTSTART;TZID=UTC+1:20150419T160000
DTEND;TZID=UTC+1:20150419T160000
DTSTAMP:20260422T235401
CREATED:20150401T195215Z
LAST-MODIFIED:20150401T195509Z
UID:2752-1429459200-1429459200@www.runningrez.be
SUMMARY:Test VMA et FCM
DESCRIPTION:Bonjour\, \nTest VMA et FCM. \nAfin de satisfaire le plus grand nombre de personnes ayant répondu à mon précédent mail\, \nLe test VMA-FCM sera organisé le dimanche 19/04 à 16h à la piste d’athlétisme de PERWEZ. \nJ’invite les personnes intéressées à se procurer si possible une montre cardio fréquence mètre. \nPour toute question\, autre info\, etc…. je suis à votre disposition. \nSportivement vôtre \nPhilippe \n
URL:http://www.runningrez.be/event/test-vma-et-fcm/
LOCATION:Rue des Marronniers 17\, Perwez\, 1360\, Belgium
CATEGORIES:Entraînement
END:VEVENT
END:VCALENDAR