BEGIN:VCALENDAR
VERSION:2.0
PRODID:-//Runnin&#039;Grez - ECPv4.6.9//NONSGML v1.0//EN
CALSCALE:GREGORIAN
METHOD:PUBLISH
X-WR-CALNAME:Runnin&#039;Grez
X-ORIGINAL-URL:http://www.runningrez.be
X-WR-CALDESC:Events for Runnin&#039;Grez
BEGIN:VEVENT
DTSTART;TZID=UTC+1:20150502T150000
DTEND;TZID=UTC+1:20150502T150000
DTSTAMP:20260422T155759
CREATED:20150405T163235Z
LAST-MODIFIED:20150405T163235Z
UID:2793-1430578800-1430578800@www.runningrez.be
SUMMARY:Semi-marathon nature de Bütgenbach (challenge delhalle)
DESCRIPTION:Semi-marathon nature empruntant chemins de terre aux alentours du superbe lac de Bütgenbach (c’est loin mais c’est bien 😉 ) Participation probable de quelques coureurs du club \n
URL:http://www.runningrez.be/event/semi-marathon-nature-de-butgenbach-challenge-delhalle/
LOCATION:Worriken\, 9\, Bütgenbach\, 4750
END:VEVENT
END:VCALENDAR