BEGIN:VCALENDAR
VERSION:2.0
PRODID:-//Runnin&#039;Grez - ECPv4.6.9//NONSGML v1.0//EN
CALSCALE:GREGORIAN
METHOD:PUBLISH
X-WR-CALNAME:Runnin&#039;Grez
X-ORIGINAL-URL:http://www.runningrez.be
X-WR-CALDESC:Events for Runnin&#039;Grez
BEGIN:VEVENT
DTSTART;TZID=UTC+1:20240303T080000
DTEND;TZID=UTC+1:20240303T235900
DTSTAMP:20260423T183313
CREATED:20231203T103955Z
LAST-MODIFIED:20231203T103955Z
UID:23730-1709452800-1709510340@www.runningrez.be
SUMMARY:Semi-marathon de Paris
DESCRIPTION:
URL:http://www.runningrez.be/event/semi-marathon-de-paris/
CATEGORIES:Jogging
END:VEVENT
END:VCALENDAR