BEGIN:VCALENDAR
VERSION:2.0
PRODID:-//Runnin&#039;Grez - ECPv4.6.9//NONSGML v1.0//EN
CALSCALE:GREGORIAN
METHOD:PUBLISH
X-WR-CALNAME:Runnin&#039;Grez
X-ORIGINAL-URL:http://www.runningrez.be
X-WR-CALDESC:Events for Runnin&#039;Grez
BEGIN:VEVENT
DTSTART;TZID=UTC+1:20240407T080000
DTEND;TZID=UTC+1:20240407T170000
DTSTAMP:20260423T145416
CREATED:20231203T104649Z
LAST-MODIFIED:20231203T104649Z
UID:23734-1712476800-1712509200@www.runningrez.be
SUMMARY:Semi-marathon de Namur
DESCRIPTION:
URL:http://www.runningrez.be/event/semi-marathon-de-namur/
CATEGORIES:Jogging
END:VEVENT
END:VCALENDAR