BEGIN:VCALENDAR
VERSION:2.0
PRODID:-//Runnin&#039;Grez - ECPv4.6.9//NONSGML v1.0//EN
CALSCALE:GREGORIAN
METHOD:PUBLISH
X-WR-CALNAME:Runnin&#039;Grez
X-ORIGINAL-URL:http://www.runningrez.be
X-WR-CALDESC:Events for Runnin&#039;Grez
BEGIN:VEVENT
DTSTART;TZID=UTC+1:20150516T103000
DTEND;TZID=UTC+1:20150516T103000
DTSTAMP:20260422T075108
CREATED:20150405T121424Z
LAST-MODIFIED:20150405T121424Z
UID:2784-1431772200-1431772200@www.runningrez.be
SUMMARY:RAID en duo
DESCRIPTION:Le Raid Heer est une épreuve d’endurance scindée en trois disciplines sportives\, se déroulant par équipe de 2 (Mixte\, dames ou hommes). \nAu menu de notre édition 2015 :\nUn vrai Trail de 8 km D+ 280M\nUn parcours de 4 km en Kayak\nUn nouveau parcours de 27 km de VTT D+ 552M \nSoit une épreuve sportive de 3h30minute … à réaliser en duo d’un bout à l’autre.\nInscription ouvertes le 1er février 2015 et limitées à 75 équipages. \nAttention\, il y aura vraisemblablement deux vagues de départ…\nUne première vague RAIDER et une seconde FUN.\nVous l’aurez compris le premier départ pour les fêlés du chrono\, le second pour les aventuriers.\nDe cette manière\, nous diminuons le coût d’inscription à : \n60€ par équipe comprenant : Kayak\, ravitaillement\, repas à l’arrivée. \nINSCRIPTIONS AVANT LE 10 MAI ET LIMITÉES À 75 ÉQUIPAGES. \nVincent S de Runnin’Grez y participe\, si vous voulez plus d’info voici son numéro. 0499 96 91 46 \n
URL:http://www.runningrez.be/event/raid-en-duo/
LOCATION:240 rue des Sorbiers\, Heer sur Meuse Hastière\, 5543\, Belgium
CATEGORIES:Trail
END:VEVENT
END:VCALENDAR