BEGIN:VCALENDAR
VERSION:2.0
PRODID:-//Runnin&#039;Grez - ECPv4.6.9//NONSGML v1.0//EN
CALSCALE:GREGORIAN
METHOD:PUBLISH
X-WR-CALNAME:Runnin&#039;Grez
X-ORIGINAL-URL:http://www.runningrez.be
X-WR-CALDESC:Events for Runnin&#039;Grez
BEGIN:VEVENT
DTSTART;TZID=UTC+1:20150501T183000
DTEND;TZID=UTC+1:20150501T183000
DTSTAMP:20260422T170747
CREATED:20150426T084735Z
LAST-MODIFIED:20150426T084735Z
UID:2904-1430505000-1430505000@www.runningrez.be
SUMMARY:Les passerelles de la Lesse
DESCRIPTION:Vendredi 01 mai 2015\nCourses enfants à 18h00 (gratuit)\nJogging 5 km et 10 km à 18h30 (4€) \nJogging repris dans le challenge de l’Ardenne\nParcours vallonnés ouverts aux marcheurs\nDépart de la Maison de Village ‘Cercle St-Pierre’ derrière l’église\nPodium pour les 3 premiers de chaque catégorie  \n
URL:http://www.runningrez.be/event/les-passerelles-de-la-lesse/
LOCATION:Allée des Marronniers\, 6929 Daverdisse\, Belgium
CATEGORIES:Jogging
ORGANIZER;CN="Lambert%20Dominique":MAILTO:lambertdominque@belgacom.net
END:VEVENT
END:VCALENDAR