BEGIN:VCALENDAR
VERSION:2.0
PRODID:-//Runnin&#039;Grez - ECPv4.6.9//NONSGML v1.0//EN
CALSCALE:GREGORIAN
METHOD:PUBLISH
X-WR-CALNAME:Runnin&#039;Grez
X-ORIGINAL-URL:http://www.runningrez.be
X-WR-CALDESC:Events for Runnin&#039;Grez
BEGIN:VEVENT
DTSTART;TZID=UTC+1:20150614T110000
DTEND;TZID=UTC+1:20150614T110000
DTSTAMP:20260421T154056
CREATED:20150525T110558Z
LAST-MODIFIED:20150525T110731Z
UID:3640-1434279600-1434279600@www.runningrez.be
SUMMARY:Les Foulées Estivales AXA
DESCRIPTION:Distances : 13.8km et 5km \nPour plus d’info concernant un covoiturage éventuel\, vous pouvez contacter Philippe Lahaye au 0477 36 75 03 ou via le formulaire de contact de notre site. \n
URL:http://www.runningrez.be/event/les-foulees-estivales-axa/
LOCATION:boulevard du Souverain\, 25\, Watermael-Boitsfort\, 1170
CATEGORIES:Jogging
END:VEVENT
END:VCALENDAR