BEGIN:VCALENDAR
VERSION:2.0
PRODID:-//Runnin&#039;Grez - ECPv4.6.9//NONSGML v1.0//EN
CALSCALE:GREGORIAN
METHOD:PUBLISH
X-WR-CALNAME:Runnin&#039;Grez
X-ORIGINAL-URL:http://www.runningrez.be
X-WR-CALDESC:Events for Runnin&#039;Grez
BEGIN:VEVENT
DTSTART;TZID=UTC+1:20150620T140000
DTEND;TZID=UTC+1:20150620T140000
DTSTAMP:20260421T154056
CREATED:20150525T111539Z
LAST-MODIFIED:20150525T111539Z
UID:3642-1434808800-1434808800@www.runningrez.be
SUMMARY:Les forges de la foret d'Anlier (challenge delhalle)
DESCRIPTION:Les forges de la foret d’Anlier (challenge delhalle 7 et 19 km) super jogging avec ravitaillement à la bière \nPour plus d’info concernant un covoiturage éventuel\, vous pouvez contacter Philippe Lahaye au 0477 36 75 03 ou via le formulaire de contact de notre site. \n
URL:http://www.runningrez.be/event/les-forges-de-la-foret-danlier-challenge-delhalle/
LOCATION:Habay\, 6720\, Belgium
CATEGORIES:Jogging
END:VEVENT
END:VCALENDAR