BEGIN:VCALENDAR
VERSION:2.0
PRODID:-//Runnin&#039;Grez - ECPv4.6.9//NONSGML v1.0//EN
CALSCALE:GREGORIAN
METHOD:PUBLISH
X-WR-CALNAME:Runnin&#039;Grez
X-ORIGINAL-URL:http://www.runningrez.be
X-WR-CALDESC:Events for Runnin&#039;Grez
BEGIN:VEVENT
DTSTART;TZID=UTC+1:20180427T200000
DTEND;TZID=UTC+1:20180427T230000
DTSTAMP:20260419T141617
CREATED:20180224T104514Z
LAST-MODIFIED:20180224T104514Z
UID:18427-1524859200-1524870000@www.runningrez.be
SUMMARY:La George's corrida
DESCRIPTION:Vous l’attendiez depuis un an. Elle est enfin en vue. La George’s corrida arrive au grand galop !\nPour cette troisième édition\, la formule gagnante de l’année passée est remise à l’honneur avec le même parcours et la même ambiance de folie!\nAmbiance musicale et festive tant sur le parcours qu’avant et après la course.\nGrâce à nos généreux partenaires\, chaque participant recevra un sac cadeau contenant quelques surprises 😉\nEt enfin le fameux prix du meilleur déguisement sera remis en jeu! \nInformations pratiques\nParcours en boucle de 3\,6\,9 km (vous avez la possibilité de choisir pendant la course)\nDate: Vendredi 27 avril 2018 – 20h (départ de la course enfants à 19h30)\nLieu: École communale de Grez-Doiceau (rue Pont au lin\, 22 1390 Grez-Doiceau)\nPrix: 5€ en prévente\, 7€ sur place (course enfants gratuite)\nLimité à 600 places! \nVestiaires\, consigne\, sanitaires\, bars et restauration (pas de douches)\nChronométrage électronique\nParking de délestage a l’école Saint Joseph aux Champs Rue de Ste du chêne 20 (+/-à 300 m du départ) ou dans les rues avoisinantes.\nRécompense aux 3 premiers des catégories Dames et hommes pour les 6 et 9 km\nPrésence obligatoire pour la remise des prix\nPrix pour le meilleur déguisement\nPlus d’infos & inscription en ligne ICI  \n \n
URL:http://www.runningrez.be/event/la-georges-corrida/
LOCATION:Rue Pont au Lin\, Grez-Doiceau\, 1390\, Belgium
CATEGORIES:Jogging
END:VEVENT
END:VCALENDAR