BEGIN:VCALENDAR
VERSION:2.0
PRODID:-//Runnin&#039;Grez - ECPv4.6.9//NONSGML v1.0//EN
CALSCALE:GREGORIAN
METHOD:PUBLISH
X-WR-CALNAME:Runnin&#039;Grez
X-ORIGINAL-URL:http://www.runningrez.be
X-WR-CALDESC:Events for Runnin&#039;Grez
BEGIN:VEVENT
DTSTART;TZID=UTC+1:20150426T110000
DTEND;TZID=UTC+1:20150426T110000
DTSTAMP:20260422T182354
CREATED:20150405T134350Z
LAST-MODIFIED:20150415T200638Z
UID:2786-1430046000-1430046000@www.runningrez.be
SUMMARY:La Brabançonne\, le jogging des femmes
DESCRIPTION:Magnifique parcours très varié dans le plein centre de Waterloo entre parc et avenues. \nAu bénéfice intégral de la Clinique du Sein – Clinique Saint-Pierre d’Ottignies. \nDistance : 3 km / 6 km / 9 km\nEchauffement : 10h15 – 10h45. En musique.\nDépart : 11h00 / Devant la Maison Communale de Waterloo – Rue François Libert\, 28\nArrivée : Devant la Maison Communale\nRavitaillement : pour le 3 km : 1 / pour le 6 km : 2 / pour le 9 km : 3\nChronométrage : Dossard avec puce électronique\nVestiaire : Waterloo Tennis – Boulevard Henri Rolin\, 5b\nParking : Autour et en face de l’Administration Communale.\nInscriptions du jour : A l’intérieur de l’Administration Communale.\nRetrait dossards : A l’intérieur de l’Administration Communale. \nPréinscriptions\n3 km : 4 € – 6 km : 6€ – 9 km : 7€ \nInternet (sur chronorace.be)\nA partir du 7 février\nJusqu’au mardi 21 avril inclus\nRetrait dossard des inscriptions Internet (LE JOUR DE LA COURSE A PARTIR DE 9h30): A l’intérieur de l’Administration Communale de Waterloo – Rue François Libert\, 28 \nMagasin (remise de votre dossard + puce)\nA partir du 16 mars\nJusqu’au samedi 25 avril midi inclus\nAnne Sophie Smartshopping\nVenelle des trois Sapins 5 à 1410 Waterloo\nou\nTraKKs\nChaussée de Waterloo\, 1165b\n1180 Uccle \nInscriptions du jour\n3 km : 6€ – 6 km : 8€ – 9 km : 9 €\nA partir de 9h.\nA l’intérieur de l’Administration Communale de Waterloo – Rue François Libert\, 28. \nAvec le soutien de la Province du Brabant wallon\nAvec le soutien de la commune de Waterloo \n
URL:http://www.runningrez.be/event/la-brabanconne-le-jogging-des-femmes/
LOCATION:Rue François Libert\, 28\, Waterloo\, 1410\, Belgium
CATEGORIES:Jogging
END:VEVENT
END:VCALENDAR