BEGIN:VCALENDAR
VERSION:2.0
PRODID:-//Runnin&#039;Grez - ECPv4.6.9//NONSGML v1.0//EN
CALSCALE:GREGORIAN
METHOD:PUBLISH
X-WR-CALNAME:Runnin&#039;Grez
X-ORIGINAL-URL:http://www.runningrez.be
X-WR-CALDESC:Events for Runnin&#039;Grez
BEGIN:VEVENT
DTSTART;TZID=UTC+1:19700101T000000
DTEND;TZID=UTC+1:19700101T000000
DTSTAMP:20260423T072839
CREATED:20240616T160915Z
LAST-MODIFIED:20240616T160915Z
UID:24017-0-0@www.runningrez.be
SUMMARY:Intervalles sur le terrain synthétique
DESCRIPTION:
URL:http://www.runningrez.be/event/intervalles-sur-le-terrain-synthetique/
END:VEVENT
END:VCALENDAR