BEGIN:VCALENDAR
VERSION:2.0
PRODID:-//Runnin&#039;Grez - ECPv4.6.9//NONSGML v1.0//EN
CALSCALE:GREGORIAN
METHOD:PUBLISH
X-WR-CALNAME:Runnin&#039;Grez
X-ORIGINAL-URL:http://www.runningrez.be
X-WR-CALDESC:Events for Runnin&#039;Grez
BEGIN:VEVENT
DTSTART;TZID=UTC+1:20240229T190000
DTEND;TZID=UTC+1:20240229T200000
DTSTAMP:20260423T210926
CREATED:20231203T103349Z
LAST-MODIFIED:20240220T122857Z
UID:23724-1709233200-1709236800@www.runningrez.be
SUMMARY:Intervalles
DESCRIPTION:
URL:http://www.runningrez.be/event/intervalles-9/
CATEGORIES:Entraînement
END:VEVENT
END:VCALENDAR