BEGIN:VCALENDAR
VERSION:2.0
PRODID:-//Runnin&#039;Grez - ECPv4.6.9//NONSGML v1.0//EN
CALSCALE:GREGORIAN
METHOD:PUBLISH
X-WR-CALNAME:Runnin&#039;Grez
X-ORIGINAL-URL:http://www.runningrez.be
X-WR-CALDESC:Events for Runnin&#039;Grez
BEGIN:VEVENT
DTSTART;TZID=UTC+1:20240411T190000
DTEND;TZID=UTC+1:20240411T200000
DTSTAMP:20260423T145956
CREATED:20240309T142550Z
LAST-MODIFIED:20240309T142550Z
UID:23924-1712862000-1712865600@www.runningrez.be
SUMMARY:intervalles
DESCRIPTION:
URL:http://www.runningrez.be/event/intervalles-11/
END:VEVENT
END:VCALENDAR