BEGIN:VCALENDAR
VERSION:2.0
PRODID:-//Runnin&#039;Grez - ECPv4.6.9//NONSGML v1.0//EN
CALSCALE:GREGORIAN
METHOD:PUBLISH
X-WR-CALNAME:Runnin&#039;Grez
X-ORIGINAL-URL:http://www.runningrez.be
X-WR-CALDESC:Events for Runnin&#039;Grez
BEGIN:VEVENT
DTSTART;TZID=UTC+1:20171202T193000
DTEND;TZID=UTC+1:20171202T193000
DTSTAMP:20260420T101304
CREATED:20171115T200123Z
LAST-MODIFIED:20171115T200123Z
UID:17008-1512243000-1512243000@www.runningrez.be
SUMMARY:Corrida de Namur
DESCRIPTION:7\,5 km \n
URL:http://www.runningrez.be/event/corrida-de-namur/
CATEGORIES:Jogging
END:VEVENT
END:VCALENDAR