BEGIN:VCALENDAR
VERSION:2.0
PRODID:-//Runnin&#039;Grez - ECPv4.6.9//NONSGML v1.0//EN
CALSCALE:GREGORIAN
METHOD:PUBLISH
X-WR-CALNAME:Runnin&#039;Grez
X-ORIGINAL-URL:http://www.runningrez.be
X-WR-CALDESC:Events for Runnin&#039;Grez
BEGIN:VEVENT
DTSTART;TZID=UTC+1:20190330T150000
DTEND;TZID=UTC+1:20190330T150000
DTSTAMP:20260421T085538
CREATED:20181229T131311Z
LAST-MODIFIED:20190327T085041Z
UID:22524-1553958000-1553958000@www.runningrez.be
SUMMARY:CBW Oisquercq
DESCRIPTION:
URL:http://www.runningrez.be/event/cbw-oisquercq-2/
LOCATION:Place Emille des Grées du Loù 1\, Oisquercq\, 1480
CATEGORIES:Challenge BW
END:VEVENT
END:VCALENDAR