BEGIN:VCALENDAR
VERSION:2.0
PRODID:-//Runnin&#039;Grez - ECPv4.6.9//NONSGML v1.0//EN
CALSCALE:GREGORIAN
METHOD:PUBLISH
X-WR-CALNAME:Runnin&#039;Grez
X-ORIGINAL-URL:http://www.runningrez.be
X-WR-CALDESC:Events for Runnin&#039;Grez
BEGIN:VEVENT
DTSTART;TZID=UTC+1:20240629T170000
DTEND;TZID=UTC+1:20240629T190000
DTSTAMP:20260423T105433
CREATED:20231203T124450Z
LAST-MODIFIED:20231203T124450Z
UID:23770-1719680400-1719687600@www.runningrez.be
SUMMARY:CBW Limelette
DESCRIPTION:
URL:http://www.runningrez.be/event/cbw-limelette/
LOCATION:Place de l'Aubépine\, Limelette\, Brabant\, 1342\, Belgique
CATEGORIES:Challenge BW
END:VEVENT
END:VCALENDAR