BEGIN:VCALENDAR
VERSION:2.0
PRODID:-//Runnin&#039;Grez - ECPv4.6.9//NONSGML v1.0//EN
CALSCALE:GREGORIAN
METHOD:PUBLISH
X-WR-CALNAME:Runnin&#039;Grez
X-ORIGINAL-URL:http://www.runningrez.be
X-WR-CALDESC:Events for Runnin&#039;Grez
BEGIN:VEVENT
DTSTART;TZID=UTC+1:20180210T150000
DTEND;TZID=UTC+1:20180210T150000
DTSTAMP:20260419T131430
CREATED:20171228T154457Z
LAST-MODIFIED:20171228T164055Z
UID:17970-1518274800-1518274800@www.runningrez.be
SUMMARY:CBW La Hulpe
DESCRIPTION:Le samedi 10 février 2018 c’est la deuxième course du challenge BW\, et celle-ci se déroulera à La Hulpe.\nDépart de la course à 15h pour une distance 13 km 300 dans le magnifique parc Solvay et dans la forêt de Soignes.\n(cette fois il n’y a pas de petite distance)\nNous organisons un covoiturage au départ du centre sportif de Grez-Doiceau ce samedi 10 février à 13h30. Ca peut paraitre tôt\, mais il vaut mieux partir à l’avance (trajet\, stationnement\, inscriptions\, échauffement…) \n
URL:http://www.runningrez.be/event/cbw-la-hulpe/
LOCATION:Rue Général De Gaule\, 53\, La Hulpe\, 1310\, Belgium
CATEGORIES:Challenge BW
END:VEVENT
END:VCALENDAR