BEGIN:VCALENDAR
VERSION:2.0
PRODID:-//Runnin&#039;Grez - ECPv4.6.9//NONSGML v1.0//EN
CALSCALE:GREGORIAN
METHOD:PUBLISH
X-WR-CALNAME:Runnin&#039;Grez
X-ORIGINAL-URL:http://www.runningrez.be
X-WR-CALDESC:Events for Runnin&#039;Grez
BEGIN:VEVENT
DTSTART;TZID=UTC+1:20230423T110000
DTEND;TZID=UTC+1:20230423T170000
DTSTAMP:20260424T064642
CREATED:20221225T134515Z
LAST-MODIFIED:20221225T134515Z
UID:23531-1682247600-1682269200@www.runningrez.be
SUMMARY:CBW: Jogging de Wauthier-Braine
DESCRIPTION:
URL:http://www.runningrez.be/event/cbw-jogging-de-wauthier-braine-4/
LOCATION:Rue des Boignées 13\, Wauthier-Braine\, 1440
CATEGORIES:Challenge BW
END:VEVENT
END:VCALENDAR