BEGIN:VCALENDAR
VERSION:2.0
PRODID:-//Runnin&#039;Grez - ECPv4.6.9//NONSGML v1.0//EN
CALSCALE:GREGORIAN
METHOD:PUBLISH
X-WR-CALNAME:Runnin&#039;Grez
X-ORIGINAL-URL:http://www.runningrez.be
X-WR-CALDESC:Events for Runnin&#039;Grez
BEGIN:VEVENT
DTSTART;TZID=UTC+1:20150321T150000
DTEND;TZID=UTC+1:20150321T150000
DTSTAMP:20260423T033230
CREATED:20150309T160050Z
LAST-MODIFIED:20150325T211618Z
UID:2191-1426950000-1426950000@www.runningrez.be
SUMMARY:CBW Jogging de Vieusart
DESCRIPTION:
URL:http://www.runningrez.be/event/cbw-jogging-de-vieusart/
LOCATION:Rue de Neussart\, Corroy-Le-Grand\, 1325\, Belgium
CATEGORIES:Challenge BW
END:VEVENT
END:VCALENDAR