BEGIN:VCALENDAR
VERSION:2.0
PRODID:-//Runnin&#039;Grez - ECPv4.6.9//NONSGML v1.0//EN
CALSCALE:GREGORIAN
METHOD:PUBLISH
X-WR-CALNAME:Runnin&#039;Grez
X-ORIGINAL-URL:http://www.runningrez.be
X-WR-CALDESC:Events for Runnin&#039;Grez
BEGIN:VEVENT
DTSTART;TZID=UTC+1:20150627T150000
DTEND;TZID=UTC+1:20150627T150000
DTSTAMP:20260421T115500
CREATED:20150525T090353Z
LAST-MODIFIED:20150525T090353Z
UID:3628-1435417200-1435417200@www.runningrez.be
SUMMARY:CBW: Jogging de Oisquercq
DESCRIPTION:Départ de la course à 15h pour une distance 11 km 350 (il y a aussi une petite distance de 5 km 400)\nNous organisons un covoiturage au départ du centre sportif de Grez-Doiceau à 13h00. \n
URL:http://www.runningrez.be/event/cbw-jogging-de-oisquercq/
LOCATION:Place Emille des Grées du Loù 1\, Oisquercq\, 1480
CATEGORIES:Challenge BW
END:VEVENT
END:VCALENDAR