BEGIN:VCALENDAR
VERSION:2.0
PRODID:-//Runnin&#039;Grez - ECPv4.6.9//NONSGML v1.0//EN
CALSCALE:GREGORIAN
METHOD:PUBLISH
X-WR-CALNAME:Runnin&#039;Grez
X-ORIGINAL-URL:http://www.runningrez.be
X-WR-CALDESC:Events for Runnin&#039;Grez
BEGIN:VEVENT
DTSTART;TZID=UTC+1:20230527T150000
DTEND;TZID=UTC+1:20230527T180000
DTSTAMP:20260424T040226
CREATED:20221225T135058Z
LAST-MODIFIED:20221225T135058Z
UID:23537-1685199600-1685210400@www.runningrez.be
SUMMARY:CBW: Jogging de Céroux
DESCRIPTION:
URL:http://www.runningrez.be/event/cbw-jogging-de-ceroux-3/
LOCATION:Place communale de Céroux\, Céroux\, 1341
CATEGORIES:Challenge BW
END:VEVENT
END:VCALENDAR