BEGIN:VCALENDAR
VERSION:2.0
PRODID:-//Runnin&#039;Grez - ECPv4.6.9//NONSGML v1.0//EN
CALSCALE:GREGORIAN
METHOD:PUBLISH
X-WR-CALNAME:Runnin&#039;Grez
X-ORIGINAL-URL:http://www.runningrez.be
X-WR-CALDESC:Events for Runnin&#039;Grez
BEGIN:VEVENT
DTSTART;TZID=UTC+1:20150620T150000
DTEND;TZID=UTC+1:20150620T150000
DTSTAMP:20260421T131515
CREATED:20150525T085525Z
LAST-MODIFIED:20150616T085238Z
UID:3626-1434812400-1434812400@www.runningrez.be
SUMMARY:CBW: Jogging de Baisy-Thy
DESCRIPTION:Départ de la course à 15h pour une distance 14 km  (il y a aussi une petite distance de 5 km)\nNous organisons un covoiturage au départ du centre sportif de Grez-Doiceau à 13h15. \n
URL:http://www.runningrez.be/event/cbw-jogging-de-baisy-thy/
LOCATION:Place d'Hattain\, Baisy-Thy\, 1470
CATEGORIES:Challenge BW
END:VEVENT
END:VCALENDAR