BEGIN:VCALENDAR
VERSION:2.0
PRODID:-//Runnin&#039;Grez - ECPv4.6.9//NONSGML v1.0//EN
CALSCALE:GREGORIAN
METHOD:PUBLISH
X-WR-CALNAME:Runnin&#039;Grez
X-ORIGINAL-URL:http://www.runningrez.be
X-WR-CALDESC:Events for Runnin&#039;Grez
BEGIN:VEVENT
DTSTART;TZID=UTC+1:20180310T150000
DTEND;TZID=UTC+1:20180310T150000
DTSTAMP:20260419T154127
CREATED:20171228T155325Z
LAST-MODIFIED:20171228T164309Z
UID:17974-1520694000-1520694000@www.runningrez.be
SUMMARY:CBW Chaumont-Gistoux
DESCRIPTION:Bonjour les joggeuses et les joggeurs!!! 🙂\nCe samedi 10 mars\, c’est la 4e course du challenge du BW à Chaumont-Gistoux\nDépart de la course à 15h pour une distance 12\,2km (il y a aussi une petite distance de 5\,4km)\nRendez-vous sur place à 14h \n
URL:http://www.runningrez.be/event/cbw-chaumont-gistoux/
LOCATION:Rue du Ronvau\, Chaumont Gistoux\, 1325
CATEGORIES:Challenge BW
END:VEVENT
END:VCALENDAR