BEGIN:VCALENDAR
VERSION:2.0
PRODID:-//Runnin&#039;Grez - ECPv4.6.9//NONSGML v1.0//EN
CALSCALE:GREGORIAN
METHOD:PUBLISH
X-WR-CALNAME:Runnin&#039;Grez
X-ORIGINAL-URL:http://www.runningrez.be
X-WR-CALDESC:Events for Runnin&#039;Grez
BEGIN:VEVENT
DTSTART;TZID=UTC+1:20240615T150000
DTEND;TZID=UTC+1:20240615T170000
DTSTAMP:20260423T104858
CREATED:20231203T124056Z
LAST-MODIFIED:20231203T124056Z
UID:23766-1718463600-1718470800@www.runningrez.be
SUMMARY:CBW Baisy-Thy
DESCRIPTION:
URL:http://www.runningrez.be/event/cbw-baisy-thy-4/
LOCATION:Place d'Hattain\, Baisy-Thy\, 1470
CATEGORIES:Challenge BW
END:VEVENT
END:VCALENDAR