BEGIN:VCALENDAR
VERSION:2.0
PRODID:-//Runnin&#039;Grez - ECPv4.6.9//NONSGML v1.0//EN
CALSCALE:GREGORIAN
METHOD:PUBLISH
X-WR-CALNAME:Runnin&#039;Grez
X-ORIGINAL-URL:http://www.runningrez.be
X-WR-CALDESC:Events for Runnin&#039;Grez
BEGIN:VEVENT
DTSTART;TZID=UTC+1:20150423T193000
DTEND;TZID=UTC+1:20150423T193000
DTSTAMP:20260422T222851
CREATED:20150409T062451Z
LAST-MODIFIED:20150409T062833Z
UID:2833-1429817400-1429817400@www.runningrez.be
SUMMARY:Assemblée générale AGForme (Runnin'Grez)
DESCRIPTION:L’assemblée générale de l’Asbl Au Grez de la Forme qui gère notre club de jogging Runnin’Grez\, se tiendra le jeudi 23/04 à 19h30 en la salle de réunion du hall omnisports de Grez-Doiceau. \n
URL:http://www.runningrez.be/event/assemblee-generale-agforme-runningrez/
END:VEVENT
END:VCALENDAR