BEGIN:VCALENDAR
VERSION:2.0
PRODID:-//Runnin&#039;Grez - ECPv4.6.9//NONSGML v1.0//EN
CALSCALE:GREGORIAN
METHOD:PUBLISH
X-WR-CALNAME:Runnin&#039;Grez
X-ORIGINAL-URL:http://www.runningrez.be
X-WR-CALDESC:Events for Runnin&#039;Grez
BEGIN:VEVENT
DTSTART;TZID=UTC+1:20150531T100000
DTEND;TZID=UTC+1:20150531T100000
DTSTAMP:20260421T225358
CREATED:20150324T214252Z
LAST-MODIFIED:20150325T211036Z
UID:2459-1433066400-1433066400@www.runningrez.be
SUMMARY:20 km de Bruxelles
DESCRIPTION:20 km \n
URL:http://www.runningrez.be/event/20-km-de-bruxelles/
LOCATION:Parc du cinquantenaire\, Bruxelles\, 1000
END:VEVENT
END:VCALENDAR