BEGIN:VCALENDAR
VERSION:2.0
PRODID:-//Runnin&#039;Grez - ECPv4.6.9//NONSGML v1.0//EN
CALSCALE:GREGORIAN
METHOD:PUBLISH
X-WR-CALNAME:Runnin&#039;Grez
X-ORIGINAL-URL:http://www.runningrez.be
X-WR-CALDESC:Events for Runnin&#039;Grez
BEGIN:VEVENT
DTSTART;TZID=UTC+1:20240305T200000
DTEND;TZID=UTC+1:20240305T230000
DTSTAMP:20260423T172449
CREATED:20240204T124441Z
LAST-MODIFIED:20240204T124441Z
UID:23876-1709668800-1709679600@www.runningrez.be
SUMMARY:1er mardi
DESCRIPTION:C’est le jour des grandes retrouvailles à la cafèt  du centre sportif après l’entraînement. \n
URL:http://www.runningrez.be/event/1er-mardi-2/
END:VEVENT
END:VCALENDAR