BEGIN:VCALENDAR
VERSION:2.0
PRODID:-//Runnin&#039;Grez - ECPv4.6.9//NONSGML v1.0//EN
CALSCALE:GREGORIAN
METHOD:PUBLISH
X-WR-CALNAME:Runnin&#039;Grez
X-ORIGINAL-URL:http://www.runningrez.be
X-WR-CALDESC:Events for Runnin&#039;Grez
BEGIN:VEVENT
DTSTART;TZID=UTC+1:20150510T103000
DTEND;TZID=UTC+1:20150510T103000
DTSTAMP:20260422T092004
CREATED:20150429T182228Z
LAST-MODIFIED:20150429T182228Z
UID:3017-1431253800-1431253800@www.runningrez.be
SUMMARY:15 km de Woluwé-St-Lambert
DESCRIPTION:Également petite distance de 6km \n
URL:http://www.runningrez.be/event/15-km-de-woluwe-st-lambert/
LOCATION:Chemin du Struykbeken\, Woluwe-Saint-Lambert\, 1200\, Belgium
CATEGORIES:Jogging
END:VEVENT
END:VCALENDAR